BEGIN:VCALENDAR
VERSION:2.0
PRODID:icalendar-ruby
CALSCALE:GREGORIAN
METHOD:PUBLISH
BEGIN:VEVENT
DTSTAMP:20260424T171536Z
UID:4836e882-0edb-4d1b-857f-c07e6094f0f6
DTSTART:20250830T130000
DTEND:20250830T170000
DESCRIPTION:<p>The Winter Wine Series is a five-month celebration of the We
 stern Cape’s most exceptional wines\, paired with curated lifestyle and 
 cultural experiences that go far beyond the ordinary. Hosted once a month 
 at Time Out Market Cape Town\, each event explores a unique theme that pai
 rs beautifully with wine whether it’s art\, jazz\, street culture\, or c
 ulinary indulgence.</p><p>For this edition of the Winter Wine Series\, we
 ’re proud to celebrate exceptional wines crafted by South Africa’s lea
 ding female winemakers\, in honor of Women’s Month.</p><p>This year’s 
 line-up includes:</p><p>May: Sneakers & Wine – A playful twist on urban 
 cool\, featuring crisp whites and street-inspired beats. </p><p>June: Sip
  & Paint – Where funky wines meet artistic flair in a vibrant\, interact
 ive painting experience. </p><p>July: Jazz & Wine – An intimate evening
  of soulful live jazz and bold vintage reds. </p><p>August: Fashion & Win
 e – A dynamic celebration of South Africa’s leading female winemakers\
 , paired with a showcase of bold\, inspiring creations from Cape Town’s 
 top female fashion designers.</p><p>September: Cheese & Wine – A decaden
 t pairing of artisanal cheeses with elegant MCCs\, bubbly and delicate ros
 és.</p><p>Diving deeper into our vision\, we’re curating moments that t
 ranscend the expected. Every event features a thoughtfully crafted itinera
 ry aligned with lifestyle elements that pair beautifully with wine\, compl
 ementing the unique layout and ambiance of our Time Studio stage and space
 .</p><p>Join us on this journey of discovery\, where every sip and every m
 oment unveil a new layer of indulgence.﻿</p><p><br></p><p>Tickets includ
 e a branded glass and unlimited wine tastings.</p><p>Food tokens available
  for purchase on-site.</p><p><br></p><p>Proudly presented in partnership w
 ith the Cape Town Tourism.</p><p><br></p><p><br></p>
LOCATION:Old Power Station Building\, Dock Road\, V&A Waterfront\, 8001
SUMMARY:Winter Wine Series: Fashion x Wine
URL;VALUE=URI:https://timeoutmarket.howler.co.za/WinterWineAugFashionxWine
END:VEVENT
END:VCALENDAR
