BEGIN:VCALENDAR
VERSION:2.0
PRODID:icalendar-ruby
CALSCALE:GREGORIAN
METHOD:PUBLISH
BEGIN:VEVENT
DTSTAMP:20260420T152257Z
UID:9be3329e-1ef3-43ff-9bdd-0663a1dce138
DTSTART:20250522T173000
DTEND:20250522T193000
DESCRIPTION:<p class="ql-align-justify"><span style="color: rgb(0\, 0\, 0)\
 ;">This winter\, visitors to Time Out Market Cape Town – located at the
  V&A Waterfront – will be able to explore the flavours of exciting seaso
 nal dishes offered by its impressive collection of the city’s best chefs
  and restaurateurs. </span></p><p class="ql-align-justify"><br></p><p clas
 s="ql-align-justify"><span style="color: rgb(0\, 0\, 0)\;">Join us in cele
 brating the opening of the winter season by enjoying the Time Out Market w
 inter menu on Thursday\, 22 May 2025. </span></p><p class="ql-align-justif
 y"><br></p><p class="ql-align-justify"><span style="color: rgb(0\, 0\, 0)\
 ;">This is an exciting opportunity to enjoy any 4 winter menu dishes from 
 the Mother City's best local chefs and restauranteurs\, either paired with
  wine or without. There is something for everyone.</span></p><p class="ql-
 align-justify"><br></p><p class="ql-align-justify"><span style="color: rgb
 (0\, 0\, 0)\;">Let's all brush off the winter blues and come celebrate and
  enjoy the best of the city under one roof. </span></p><p><br></p><p class
 ="ql-align-justify"><br></p><p><br></p><p><br></p>
LOCATION:Old Power Station Building\, Dock Road\, V&A Waterfront\, 8001
SUMMARY:Winter Dish 2025 Tasting Menu 
URL;VALUE=URI:https://timeoutmarket.howler.co.za/winterdishtasting
END:VEVENT
END:VCALENDAR
