BEGIN:VCALENDAR
VERSION:2.0
PRODID:icalendar-ruby
CALSCALE:GREGORIAN
METHOD:PUBLISH
BEGIN:VEVENT
DTSTAMP:20260420T152804Z
UID:cc3035a0-8b29-41c7-90dc-4928c5fc2b9d
DTSTART:20250330T150000
DTEND:20250330T210000
DESCRIPTION:<p><span style="color: rgb(34\, 34\, 34)\;">Step into a </span
 ><strong style="color: rgb(34\, 34\, 34)\;">nostalgic afternoon of music a
 nd memories</strong><span style="color: rgb(34\, 34\, 34)\;">! Inspired by
  classic matinee sessions\, </span></p><p><strong style="color: rgb(34\, 
 34\, 34)\;">Vinyl Digz</strong><span style="color: rgb(34\, 34\, 34)\;"> 
 brings you a </span><strong style="color: rgb(34\, 34\, 34)\;">throwback 
 vinyl experience</strong><span style="color: rgb(34\, 34\, 34)\;"> filled
  with </span><strong style="color: rgb(34\, 34\, 34)\;">rare records\, li
 ve DJ sets\, and timeless grooves</strong><span style="color: rgb(34\, 34\
 , 34)\;">.</span></p><p><br></p><p><strong>When:</strong> Sunday\, 30 Mar
 ch</p><p><strong>Time:</strong> 3 PM – 9 PM (the perfect sundown sessio
 n!)</p><p><strong>Entry: R100</strong></p><p><br></p><p>Curated by <stron
 g>Pierre Estienne</strong>\, the mastermind behind Vinyl Digz\, this event
  is your chance to <strong>dig through crates\, relive the golden era of 
 vinyl\, and dance into the evening!</strong></p><p><br></p>
LOCATION:Old Power Station Building\, Dock Road\, V&A Waterfront\, 8001
SUMMARY:Vinyl Digz x Time Out
URL;VALUE=URI:https://timeoutmarket.howler.co.za/vinyldigz
END:VEVENT
END:VCALENDAR
