BEGIN:VCALENDAR
VERSION:2.0
PRODID:icalendar-ruby
CALSCALE:GREGORIAN
METHOD:PUBLISH
BEGIN:VEVENT
DTSTAMP:20260420T144034Z
UID:a98665f7-d2ee-42d9-ad1f-b20b6af21514
DTSTART:20260228T080000
DTEND:20260228T100000
DESCRIPTION:<p><span>The TOM Connectors Run & Social</span></p><p><br></p><
 p><span>Running isn’t just about fitness — it’s about connection. It
 ’s about meeting like-minded humans\, building community\, and moving to
 gether.</span></p><p><br></p><p><span>On the last Saturday of every month\
 , Time Out Market Cape Town hosts The TOM Connectors Run & Social — a 5k
 m & 8km social run led by seasonaed 10km runner\, Sivu Nobo. The run is op
 en to all levels\, and designed to bring people together in a relaxed\, we
 lcoming environment that celebrates healthy living and shared experiences.
 </span></p><p><br></p><p><span>Expect cool people\, good vibes\, great con
 versations\, and exclusive offers on the Time Out Market app — all befor
 e you ease into the rest of your weekend.</span></p><p><br></p><p><span>Da
 te: Saturday\, 28 February</span></p><p><span>Time: 8:00am – 10:00am</sp
 an></p><p>Meet at 7:30am for warm up</p><p><span>Distance: 5km & 8km</span
 ></p><p><span>Cost: Free</span></p><p><br></p><p><span>Make deep connectio
 ns. </span></p><p><br></p>
LOCATION:Old Power Station Building\, Dock Road\, V&A Waterfront\, 8001
SUMMARY:TOM Connectors Run & Social
URL;VALUE=URI:https://timeoutmarket.howler.co.za/TOMConnectorsRun28Feb
END:VEVENT
END:VCALENDAR
