BEGIN:VCALENDAR
VERSION:2.0
PRODID:icalendar-ruby
CALSCALE:GREGORIAN
METHOD:PUBLISH
BEGIN:VEVENT
DTSTAMP:20260420T153349Z
UID:20505339-f5dc-4f52-8761-3281a6e1b073
DTSTART:20251030T190000
DTEND:20251030T210000
DESCRIPTION:<p><span>Schalk Live at Time Out Market Cape Town.</span></p><p
 ><br></p><p>Join us for The Comedy Club: Schalk Bezuidenhout & Friends. <
 /p><p><br></p><p>📅 30 October 2025 | ⏰ 6:30 PM – 7:00 PM start</p><
 p><span>📍 Time Out Market Cape Town Studio</span></p><p><br></p><p><spa
 n>Schalk is back in Cape Town with a powerhouse comedy line-up featuring l
 ocal favorites:</span></p><p><span>🎤 Jaryd Pillay</span></p><p><span>
 🎤 Dylan Skews</span></p><p><span>🎤 MC: Carl Weber</span></p><p><br><
 /p><p><span>Get ready for a night of laughs\, gags\, and Cape Town flair!<
 /span></p><p><br></p><p><span>🎟️ Tickets:</span></p><p><br></p><p><sp
 an>R250 Online</span></p><p><br></p><p><span>R300 At the Door</span></p><p
 ><br></p><p><span>R450 Ticket with Benefits (includes R250 meal voucher)</
 span></p><p><br></p><p><br></p>
LOCATION:Old Power Station Building\, Dock Road\, V&A Waterfront\, 8001
SUMMARY:The Comedy Club with Schalk Bezuidenhout & Friends
URL;VALUE=URI:https://timeoutmarket.howler.co.za/SchalkBezuidenhoutLive
END:VEVENT
END:VCALENDAR
