BEGIN:VCALENDAR
VERSION:2.0
PRODID:icalendar-ruby
CALSCALE:GREGORIAN
METHOD:PUBLISH
BEGIN:VEVENT
DTSTAMP:20260420T152329Z
UID:e5978f1d-5521-4dc7-ad6a-864aa8b7528d
DTSTART:20250925T190000
DTEND:20250925T220000
DESCRIPTION:<p><strong>This September 25</strong>\, <em>Time Out Market’s
  Swag Poetry Jam</em>\, in conjunction with <em>WOMAD</em>\, proudly prese
 nts <strong>Marwan (Spain)</strong>.</p><p><br></p><p>Madrid-born <strong>
 Marwan Abu-Tahoun Recio</strong> has touched millions with his heartfelt p
 oems and songs.</p><p>A leading figure in Spain’s urban poetry scene\, h
 e is the bestselling author of <strong><em>Todos mis futuros son contigo</
 em></strong> and has recently returned with a powerful new album\, <em>El 
 Viejo Boxeador</em>.</p><p><br></p><p>Opening the show will be award-winni
 ng slam poet\, author\, and community activist <strong>Vusumuzi Mpofu</str
 ong> and spiritual health guide and radio personality\,<strong> Susana Ken
 nedy</strong>.</p><p><br></p><p>📅 <strong>Date:</strong> September 25</
 p><p>🕖 <strong>Time:</strong> 7:00 PM – 9:30 PM</p><p>📍 <strong>Ve
 nue:</strong> Time Out Market Cape Town</p><p>💳 <strong>Tickets:</stron
 g> R150 online | R200 at the door</p><p>🚗 <strong>Parking:</strong> Pai
 d parking available in Portswood Garage</p><p><br></p><p>An unforgettable 
 evening of rhythm\, verse\, and soul awaits.</p><p><br></p>
LOCATION:Old Power Station Building\, Dock Road\, V&A Waterfront\, 8001
SUMMARY:Swag Poetry Jam 
URL;VALUE=URI:https://timeoutmarket.howler.co.za/SwagPoetryJam25Sept
END:VEVENT
END:VCALENDAR
