BEGIN:VCALENDAR
VERSION:2.0
PRODID:icalendar-ruby
CALSCALE:GREGORIAN
METHOD:PUBLISH
BEGIN:VEVENT
DTSTAMP:20260420T064816Z
UID:bad5d43c-e739-42e8-9457-92be46d30cd1
DTSTART:20250612T183000
DTEND:20250612T210000
DESCRIPTION:<p><span style="color: rgb(34\, 34\, 34)\;">Time Out Market wil
 l play host to a casual and decidedly more hands-on collaboration\, as Sus
 hiya chef Ryan Reyes is joined by Peter Tempelhoff and Takagi for a sushi-
 making masterclass. The evening will include an opportunity to make sushi 
 alongside the chefs and later enjoy a six-piece platter prepared by the tr
 io\, paired with Fukumitsuya Junmai Sake. A sushi and Junmai sake special 
 will be running for the day and will include an omakase platter prepared b
 y Tempelhoff and Takagi.</span></p><p><br></p><p><span style="color: rgb
 (15\, 15\, 15)\;">Date: Thursday 12 June</span></p><p><span style="color: 
 rgb(15\, 15\, 15)\;">Time: 18:30 - 20:30</span></p><p><span style="color: 
 rgb(15\, 15\, 15)\;">Cost: R450 including DIY sushi\, 6-piece omakase plat
 ter and sake</span></p><p><br></p><p><strong style="color: rgb(19\, 1\, 1)
 \;">Ticket Includes:</strong></p><ul><li><span style="color: rgb(19\, 1\, 
 1)\;">Hands-on sushi masterclass & demo</span></li><li><span style="color:
  rgb(19\, 1\, 1)\;">Welcome glass of wine</span></li><li><span style="colo
 r: rgb(19\, 1\, 1)\;">Fukumitsuya sake jar & 6-piece sushi platter</span><
 /li><li><span style="color: rgb(19\, 1\, 1)\;">One-on-one interaction with
  chefs Tempelhoff & Shin</span></li></ul><p><br></p>
LOCATION:Old Power Station Building\, Dock Road\, V&A Waterfront\, 8001
SUMMARY:Sushiya | Sushi Masterclass
URL;VALUE=URI:https://timeoutmarket.howler.co.za/SushiyaSushiMasterclass03J
 une
END:VEVENT
END:VCALENDAR
