BEGIN:VCALENDAR
VERSION:2.0
PRODID:icalendar-ruby
CALSCALE:GREGORIAN
METHOD:PUBLISH
BEGIN:VEVENT
DTSTAMP:20260426T040822Z
UID:67967f23-752e-4aba-b79b-a1b6b42fea57
DTSTART:20241023T173000
DTEND:20241023T203000
DESCRIPTION:<p><span style="color: rgb(0\, 0\, 0)\;">Discover our new summe
 r menu! Enjoy 4 delicious dishes\, perfectly paired with a flight of Cape 
 Collective wines for just R495. Prefer without wine? Only R395. Indulge in
  this exclusive summer experience!</span></p>
LOCATION:Old Power Station Building\, Dock Road\, V&A Waterfront\, 8001
SUMMARY:Summer Dish Menu Launch
URL;VALUE=URI:https://timeoutmarket.howler.co.za/SummerDish23Oct
END:VEVENT
END:VCALENDAR
