BEGIN:VCALENDAR
VERSION:2.0
PRODID:icalendar-ruby
CALSCALE:GREGORIAN
METHOD:PUBLISH
BEGIN:VEVENT
DTSTAMP:20260420T010242Z
UID:b44e3081-43dc-42fa-affa-a20c6029be38
DTSTART:20250710T180000
DTEND:20250710T210000
DESCRIPTION:<p><span>Are you ready for an </span>unforgettable night of Que
 endom?</p><p><br></p><p class="ql-indent-1"><strong>Time Out Market Cape T
 own</strong><em> </em></p><p class="ql-indent-2"><em>presents</em><strong>
  </strong></p><p><br></p><p class="ql-indent-1">NIGHT OF THE QUEENS<strong
 > </strong></p><p class="ql-indent-1">A sensational drag experience that
 ’s the talk of the town!</p><p class="ql-indent-1"><span>Join us on the 
 10 JULY for a dazzling night of glitz\, glamour\, and Sasha Fierce.</span>
 </p><p class="ql-indent-2"><strong>Manila von Teez\, </strong></p><p class
 ="ql-indent-2"><strong>Kat Gilardi &</strong></p><p class="ql-indent-2"><s
 trong>Vida Fantabisher </strong></p><p class="ql-indent-1">The Queens van 
 die Kaap</p><p><br></p><p> The show kicks off at 7PM\, but the fun starts 
 earlier – arrive from 6PM to sip bubbly and mingle with the queens befor
 e they hit the stage. Expect electrifying energy\, outrageous looks\, and 
 a celebration of bold self-expression.</p><p><br></p><p><span>Tickets are 
 R150 per person online / R200 at the door.</span></p><p>Earlybird tickets 
 available 26th June. </p><p><br></p><p><br></p><p><br></p><p><br></p><p><b
 r></p>
LOCATION:Old Power Station Building\, Dock Road\, V&A Waterfront\, 8001
SUMMARY:NIGHT OF THE QUEENS 
URL;VALUE=URI:https://timeoutmarket.howler.co.za/NightoftheQueens10July
END:VEVENT
END:VCALENDAR
