BEGIN:VCALENDAR
VERSION:2.0
PRODID:icalendar-ruby
CALSCALE:GREGORIAN
METHOD:PUBLISH
BEGIN:VEVENT
DTSTAMP:20260420T010129Z
UID:821e77dd-d1f6-4b34-bfa1-b81d4d6f57da
DTSTART:20250424T130000
DTEND:20250424T160000
DESCRIPTION:<p><span>It's Cape Town Jazz Week! we've prepared a few entrees
  for our guests to indulge in before the evening's concerts. Join us each 
 afternoon of the 24th\, 25th and 26th April and get an elevated taste of t
 he number one Time Out Market in the World. </span></p><p><br></p><p><spa
 n>Thursday 24th: Gin/Wine Tasting Experience</span></p><p><span>Friday 25t
 h: Wine Tasting Experience</span></p><p><span>Saturday 26th: Whisky Tastin
 g Experience </span></p><p><br></p><p><span>Each Tasting is served with 4 
 x drinks and Bottled Water</span></p><p><br></p><p><span>Tickets incl. sna
 cks: R350</span></p><p><br></p>
LOCATION:Old Power Station Building\, Dock Road\, V&A Waterfront\, 8001
SUMMARY:Jazz Fest Pre-party: Wine Tasting
URL;VALUE=URI:https://timeoutmarket.howler.co.za/WineTastingExperience
END:VEVENT
END:VCALENDAR
