BEGIN:VCALENDAR
VERSION:2.0
PRODID:icalendar-ruby
CALSCALE:GREGORIAN
METHOD:PUBLISH
BEGIN:VEVENT
DTSTAMP:20260420T010209Z
UID:d4390a2c-acdc-49a7-9b66-c96fdf7ba785
DTSTART:20250425T130000
DTEND:20250425T160000
DESCRIPTION:<p>It's Cape Town Jazz Week! we've prepared a few entrees for o
 ur guests to indulge in before the evening's concerts. Join us each aftern
 oon of the 24th\, 25th and 26th April and get an elevated taste of the num
 ber one Time Out Market in the World. </p><p><br></p><p>Thursday 24th: Gi
 n/Wine Tasting Experience</p><p>Friday 25th: Wine Tasting Experience</p><p
 >Saturday 26th: Whisky Tasting Experience</p><p><br></p><p>Each 4-drink ta
 sting experience is served with 3 x CT Gin Cocktails of your choice.</p><p
 ><br></p><p>Tickets: R350</p><p><br></p>
LOCATION:Old Power Station Building\, Dock Road\, V&A Waterfront\, 8001
SUMMARY:Jazz Fest Pre-party: Gin Tasting
URL;VALUE=URI:https://timeoutmarket.howler.co.za/GinTasting
END:VEVENT
END:VCALENDAR
