BEGIN:VCALENDAR
VERSION:2.0
PRODID:icalendar-ruby
CALSCALE:GREGORIAN
METHOD:PUBLISH
BEGIN:VEVENT
DTSTAMP:20260420T152503Z
UID:add091bb-8d99-45e3-a524-4ea1d34637cb
DTSTART:20251026T080000
DTEND:20251026T090000
DESCRIPTION:<p><strong>Time Out for Boobies </strong>💗</p><p>This Octobe
 r\, we’re running (and walking!) in pink to celebrate life\, support tho
 se still fighting\, and honour those we’ve lost. It’s a morning to com
 e together – whether you’re here for fun\, fitness\, friends\, or the 
 cause itself.</p><p>Run for Hope. Run in Pink.</p><p>📍 Starting at Time
  Out Market Cape Town\, through the V&A Waterfront precinct. We meet at th
 e Nobel Square Entrance.</p><p>📅 <strong>Sunday\, 26 October 2025</stro
 ng></p><p>🕘 <strong>08:00 AM start\, </strong><strong style="color: rgb
 (0\, 0\, 0)\;">Registration starts at 07:30</strong></p><p>📏 5KM fun ru
 n/walk</p><p>Join us as we turn the Waterfront pink for Breast Cancer Awar
 eness. Whether you run\, stroll\, or cheer from the sidelines\, every step
  makes a difference.</p><p>✨ Tickets: R75 (limited space – book early!
 )</p><p>👉 Get your tickets now</p><p><br></p><p>After the run\, celebra
 te with us at Time Out Market Cape Town – grab a coffee at Nosh Cafe\, o
 pen from 8 AM.</p><p><br></p><p>💗 Style Tip: <strong>Rock your best pin
 k outfit to show your support!</strong></p><p><br></p><p><strong style="co
 lor: rgb(0\, 0\, 0)\;">By joining the event\, you’ll be helping us make
  a difference.</strong><span style="color: rgb(0\, 0\, 0)\;"> Proceeds fro
 m the event will be donated to support breast cancer initiatives.</span></
 p><p><br></p><p>Please complete the following indemnity: https://bit.ly/Ti
 meOutForBoobiesFunRun</p>
LOCATION:Old Power Station Building\, Dock Road\, V&A Waterfront\, 8001
SUMMARY:Breast Cancer Awareness Run/Walk - Time Out for Boobies
URL;VALUE=URI:https://timeoutmarket.howler.co.za/run-for-pink
END:VEVENT
END:VCALENDAR
